BEGIN:VCALENDAR
VERSION:2.0
PRODID:-//Cloztalk Events Calendar - ECPv6.15.15//NONSGML v1.0//EN
CALSCALE:GREGORIAN
METHOD:PUBLISH
X-WR-CALNAME:Cloztalk Events Calendar
X-ORIGINAL-URL:https://calendar.cloztalk.com
X-WR-CALDESC:Events for Cloztalk Events Calendar
REFRESH-INTERVAL;VALUE=DURATION:PT1H
X-Robots-Tag:noindex
X-PUBLISHED-TTL:PT1H
BEGIN:VTIMEZONE
TZID:America/New_York
BEGIN:DAYLIGHT
TZOFFSETFROM:-0500
TZOFFSETTO:-0400
TZNAME:EDT
DTSTART:20200308T070000
END:DAYLIGHT
BEGIN:STANDARD
TZOFFSETFROM:-0400
TZOFFSETTO:-0500
TZNAME:EST
DTSTART:20201101T060000
END:STANDARD
BEGIN:DAYLIGHT
TZOFFSETFROM:-0500
TZOFFSETTO:-0400
TZNAME:EDT
DTSTART:20210314T070000
END:DAYLIGHT
BEGIN:STANDARD
TZOFFSETFROM:-0400
TZOFFSETTO:-0500
TZNAME:EST
DTSTART:20211107T060000
END:STANDARD
BEGIN:DAYLIGHT
TZOFFSETFROM:-0500
TZOFFSETTO:-0400
TZNAME:EDT
DTSTART:20220313T070000
END:DAYLIGHT
BEGIN:STANDARD
TZOFFSETFROM:-0400
TZOFFSETTO:-0500
TZNAME:EST
DTSTART:20221106T060000
END:STANDARD
END:VTIMEZONE
BEGIN:VTIMEZONE
TZID:America/Chicago
BEGIN:DAYLIGHT
TZOFFSETFROM:-0600
TZOFFSETTO:-0500
TZNAME:CDT
DTSTART:20200308T080000
END:DAYLIGHT
BEGIN:STANDARD
TZOFFSETFROM:-0500
TZOFFSETTO:-0600
TZNAME:CST
DTSTART:20201101T070000
END:STANDARD
BEGIN:DAYLIGHT
TZOFFSETFROM:-0600
TZOFFSETTO:-0500
TZNAME:CDT
DTSTART:20210314T080000
END:DAYLIGHT
BEGIN:STANDARD
TZOFFSETFROM:-0500
TZOFFSETTO:-0600
TZNAME:CST
DTSTART:20211107T070000
END:STANDARD
BEGIN:DAYLIGHT
TZOFFSETFROM:-0600
TZOFFSETTO:-0500
TZNAME:CDT
DTSTART:20220313T080000
END:DAYLIGHT
BEGIN:STANDARD
TZOFFSETFROM:-0500
TZOFFSETTO:-0600
TZNAME:CST
DTSTART:20221106T070000
END:STANDARD
END:VTIMEZONE
BEGIN:VEVENT
DTSTART;TZID=America/New_York:20210911T083000
DTEND;TZID=America/New_York:20210911T123000
DTSTAMP:20260419T143354
CREATED:20210827T194131Z
LAST-MODIFIED:20210827T200730Z
UID:182-1631349000-1631363400@calendar.cloztalk.com
SUMMARY:Volunteer Event: Gay For Good + Carolina Tiger Rescue
DESCRIPTION:Join Gay For Good’s LGBTQ+ Volunteer Network (allies welcome too) when we return to one of our more popular project locations\, Carolina Tiger Rescue\, to volunteer!  \nWhat you need to know… \nDuties may include clearing vines and brush from empty enclosures\, digging trenches for drainage\, building or dismantling fences or other light construction tasks. As a volunteer\, you should be prepared for moderately strenuous physical work in a fairly rustic\, natural outdoor environment. NOTE: We will not be interacting directly with the animals\, but volunteers do get a tour of the facility\, either before or after the project. \nAll volunteers must register on the Gay For Good website to attend.  \nSpace is limited to 8 volunteers.
URL:https://calendar.cloztalk.com/event/volunteer-event-gay-for-good-carolina-tiger-rescue/
LOCATION:Carolina Tiger Rescue\, Pittsboro\, NC\, 27312\, United States
ATTACH;FMTTYPE=image/png:https://calendar.cloztalk.com/wp-content/uploads/2021/08/G4G-RDU-Carolina-Tiger-Rescue-for-FB.png
ORGANIZER;CN="Gay For Good":MAILTO:info@gayforgood.org
END:VEVENT
BEGIN:VEVENT
DTSTART;TZID=America/Chicago:20210910T000000
DTEND;TZID=America/Chicago:20210910T235959
DTSTAMP:20260419T143354
CREATED:20210827T155945Z
LAST-MODIFIED:20210827T161442Z
UID:177-1631232000-1631318399@calendar.cloztalk.com
SUMMARY:CWC Better Together Benefit
DESCRIPTION:The Cancer Wellness Center is experiencing an unprecedented demand for cancer support services. Since January\, we have provided 28% more counseling hours in comparison to 2020. Proceeds from the Benefit are instrumental in providing our much-needed programs and services to CWC participants. \nYou can make a difference! Even though we will not be together\, we hope you will consider supporting the Center by purchasing raffle tickets\, participating in the silent auction\, or making a donation. You may also visit www.cancerwellness.org for more information.
URL:https://calendar.cloztalk.com/event/cwc-better-together-benefit/
LOCATION:CT
ATTACH;FMTTYPE=image/png:https://calendar.cloztalk.com/wp-content/uploads/2021/08/2021-BTB-generic-picture.png
ORGANIZER;CN="Cancer Wellness Center":MAILTO:schacheva@cancerwellness.org
END:VEVENT
END:VCALENDAR